BEGIN:VCALENDAR
VERSION:2.0
PRODID:-//demosphere.net//NONSGML kigkonsult.se iCalcreator 2.22.1//
METHOD:REQUEST
X-WR-TIMEZONE:Europe/Athens
BEGIN:VEVENT
UID:https://thessaloniki.kinimatorama.net/event/145182
DTSTAMP:20221202T170000Z
DESCRIPTION:περισσότερες πληροφορίες: https://thessaloniki.kinimatorama.net
 /event/145182 
DTSTART:20221202T170000Z
DTEND:20221202T180000Z
GEO:+35.341459;+25.132416
LOCATION:Ηράκλειο\, \nΚατάληψη Ευαγγελισμού \nΘεοτοκοπούλου 18
SUMMARY:Συνέχεια της συνέλευσης για διωργάνωση πορείας στις 6 δεκέμβρη
URL:https://thessaloniki.kinimatorama.net/event/145182
END:VEVENT
END:VCALENDAR
