BEGIN:VCALENDAR
VERSION:2.0
PRODID:-//demosphere.net//NONSGML kigkonsult.se iCalcreator 2.22.1//
METHOD:REQUEST
X-WR-TIMEZONE:Europe/Athens
BEGIN:VEVENT
UID:https://thessaloniki.kinimatorama.net/event/145226
DTSTAMP:20221202T170000Z
DESCRIPTION:περισσότερες πληροφορίες: https://thessaloniki.kinimatorama.net
 /event/145226 
DTSTART:20221202T170000Z
DTEND:20221202T180000Z
GEO:+40.633903;+22.95648
LOCATION:Θεσσαλονίκη\, \nΣχολή Θετικών Επιστημών (ΣΘΕ) ΑΠΘ
SUMMARY:Προβολη ντοκιμαντερ: «Το χρονικό μιας προαναγγελθείσας δολοφονίας»
URL:https://thessaloniki.kinimatorama.net/event/145226
END:VEVENT
END:VCALENDAR
