BEGIN:VCALENDAR
VERSION:2.0
PRODID:-//demosphere.net//NONSGML kigkonsult.se iCalcreator 2.22.1//
METHOD:REQUEST
X-WR-TIMEZONE:Europe/Athens
BEGIN:VEVENT
UID:https://thessaloniki.kinimatorama.net/event/146227
DTSTAMP:20221220T192100Z
DESCRIPTION:περισσότερες πληροφορίες: https://thessaloniki.kinimatorama.net
 /event/146227 
DTSTART:20221220T192100Z
DTEND:20221220T202100Z
GEO:+40.633903;+22.95648
LOCATION:Θεσσαλονίκη\, \nΣχολή Θετικών Επιστημών (ΣΘΕ) ΑΠΘ
SUMMARY:[Μετά το πέρας της πορείας] C.U.M & CineDroga προβάλλουν : Brazil (
 1985)
URL:https://thessaloniki.kinimatorama.net/event/146227
END:VEVENT
END:VCALENDAR
