BEGIN:VCALENDAR
VERSION:2.0
PRODID:-//demosphere.net//NONSGML kigkonsult.se iCalcreator 2.22.1//
METHOD:REQUEST
X-WR-TIMEZONE:Europe/Athens
BEGIN:VEVENT
UID:https://thessaloniki.kinimatorama.net/event/146325
DTSTAMP:20221221T160000Z
DESCRIPTION:περισσότερες πληροφορίες: https://thessaloniki.kinimatorama.net
 /event/146325 
DTSTART:20221221T160000Z
DTEND:20221221T170000Z
GEO:+37.994079;+23.732083
LOCATION:Αθήνα\, \nΑΣΟΕΕ \nΠατησίων 76 (28ης Οκτωβρίου) \n(πλησίον σταθμού 
 ΗΣΑΠ Βικτώρια)
SUMMARY:Συνέλευση αλληλεγγύης στον απεργό πείνας και δίψας Θάνο Χατζηαγγέλο
 υ
URL:https://thessaloniki.kinimatorama.net/event/146325
END:VEVENT
END:VCALENDAR
