BEGIN:VCALENDAR
VERSION:2.0
PRODID:-//demosphere.net//NONSGML kigkonsult.se iCalcreator 2.22.1//
METHOD:REQUEST
X-WR-TIMEZONE:Europe/Athens
BEGIN:VEVENT
UID:https://thessaloniki.kinimatorama.net/event/146354
DTSTAMP:20221223T160000Z
DESCRIPTION:περισσότερες πληροφορίες: https://thessaloniki.kinimatorama.net
 /event/146354 
DTSTART:20221223T160000Z
DTEND:20221223T170000Z
GEO:+40.633903;+22.95648
LOCATION:Θεσσαλονίκη\, \nΣχολή Θετικών Επιστημών (ΣΘΕ) ΑΠΘ
SUMMARY:Ανοιχτή συνέλευση αλληλεγγύης στον απεργό πείνας και δίψας Θ.Χατζηα
 γγέλου
URL:https://thessaloniki.kinimatorama.net/event/146354
END:VEVENT
END:VCALENDAR
