BEGIN:VCALENDAR
VERSION:2.0
PRODID:-//demosphere.net//NONSGML kigkonsult.se iCalcreator 2.22.1//
METHOD:REQUEST
X-WR-TIMEZONE:Europe/Athens
BEGIN:VEVENT
UID:https://thessaloniki.kinimatorama.net/event/146436
DTSTAMP:20221225T160000Z
DESCRIPTION:περισσότερες πληροφορίες: https://thessaloniki.kinimatorama.net
 /event/146436 
DTSTART:20221225T160000Z
DTEND:20221225T170000Z
GEO:+40.633903;+22.95648
LOCATION:Θεσσαλονίκη\, \nΣχολή Θετικών Επιστημών (ΣΘΕ) ΑΠΘ
SUMMARY:[Θεσσαλονίκη] Έκτακτη συνέλευση αλληλεγγύης στον αναρχικό Θ.Χατζηαγ
 γέλου
URL:https://thessaloniki.kinimatorama.net/event/146436
END:VEVENT
END:VCALENDAR
