BEGIN:VCALENDAR
VERSION:2.0
PRODID:-//demosphere.net//NONSGML kigkonsult.se iCalcreator 2.22.1//
METHOD:REQUEST
X-WR-TIMEZONE:Europe/Athens
BEGIN:VEVENT
UID:https://thessaloniki.kinimatorama.net/event/146570
DTSTAMP:20230102T140000Z
DESCRIPTION:περισσότερες πληροφορίες: https://thessaloniki.kinimatorama.net
 /event/146570 
DTSTART:20230102T140000Z
DTEND:20230102T150000Z
GEO:+40.633903;+22.95648
LOCATION:Θεσσαλονίκη\, \nΣχολή Θετικών Επιστημών (ΣΘΕ) ΑΠΘ
SUMMARY:Ανοιχτή συνέλευση για τον αναρχικό απεργό πείνας και δίψας Θάνο Χατ
 ζηαγγέλου
URL:https://thessaloniki.kinimatorama.net/event/146570
END:VEVENT
END:VCALENDAR
