BEGIN:VCALENDAR
VERSION:2.0
PRODID:-//demosphere.net//NONSGML kigkonsult.se iCalcreator 2.22.1//
METHOD:REQUEST
X-WR-TIMEZONE:Europe/Athens
BEGIN:VEVENT
UID:https://thessaloniki.kinimatorama.net/event/146878
DTSTAMP:20230127T163000Z
DESCRIPTION:περισσότερες πληροφορίες: https://thessaloniki.kinimatorama.net
 /event/146878 
DTSTART:20230127T163000Z
DTEND:20230127T173000Z
GEO:+37.994079;+23.732083
LOCATION:Αθήνα\, \nΑΣΟΕΕ \nΠατησίων 76 (28ης Οκτωβρίου) \n(πλησίον σταθμού 
 ΗΣΑΠ Βικτώρια)
SUMMARY:Παρουσίαση Ατζέντας 2023 Ταμείου Αλληλεγγύης Φυλακ. & Διωκόμενων αγ
 ωνιστών-στριών
URL:https://thessaloniki.kinimatorama.net/event/146878
END:VEVENT
END:VCALENDAR
