BEGIN:VCALENDAR
VERSION:2.0
PRODID:-//demosphere.net//NONSGML kigkonsult.se iCalcreator 2.22.1//
METHOD:REQUEST
X-WR-TIMEZONE:Europe/Athens
BEGIN:VEVENT
UID:https://thessaloniki.kinimatorama.net/event/147079
DTSTAMP:20230119T070000Z
DESCRIPTION:περισσότερες πληροφορίες: https://thessaloniki.kinimatorama.net
 /event/147079 
DTSTART:20230119T070000Z
DTEND:20230119T080000Z
GEO:+40.639326;+22.932823
LOCATION:Θεσσαλονίκη\, \nΔικαστήρια Θεσσαλονίκης
SUMMARY:Δικάζουν το κίνημα κατά των πλειστηριασμών-εξώσεων
URL:https://thessaloniki.kinimatorama.net/event/147079
END:VEVENT
END:VCALENDAR
