BEGIN:VCALENDAR
VERSION:2.0
PRODID:-//demosphere.net//NONSGML kigkonsult.se iCalcreator 2.22.1//
METHOD:REQUEST
X-WR-TIMEZONE:Europe/Athens
BEGIN:VEVENT
UID:https://thessaloniki.kinimatorama.net/event/147223
DTSTAMP:20230127T083000Z
DESCRIPTION:περισσότερες πληροφορίες: https://thessaloniki.kinimatorama.net
 /event/147223 
DTSTART:20230127T083000Z
DTEND:20230127T093000Z
GEO:+37.995376;+23.743086
LOCATION:Αθήνα\, \nΔικαστήρια Ευελπίδων
SUMMARY:Δίκη συλληφθέντων/είσων από την αντιφασιστική κινητοποίηση στο Γαλά
 τσι 2020
URL:https://thessaloniki.kinimatorama.net/event/147223
END:VEVENT
END:VCALENDAR
