BEGIN:VCALENDAR
VERSION:2.0
PRODID:-//demosphere.net//NONSGML kigkonsult.se iCalcreator 2.22.1//
METHOD:REQUEST
X-WR-TIMEZONE:Europe/Athens
BEGIN:VEVENT
UID:https://thessaloniki.kinimatorama.net/event/147661
DTSTAMP:20230216T110000Z
DESCRIPTION:περισσότερες πληροφορίες: https://thessaloniki.kinimatorama.net
 /event/147661 
DTSTART:20230216T110000Z
DTEND:20230216T120000Z
GEO:+40.632845;+22.955744
LOCATION:Θεσσαλονίκη\, \nΠλατεία Χημείου \nΑΠΘ
SUMMARY:Τσικνοπεμπτη με Βουκολικη Διαταραχη
URL:https://thessaloniki.kinimatorama.net/event/147661
END:VEVENT
END:VCALENDAR
