BEGIN:VCALENDAR
VERSION:2.0
PRODID:-//demosphere.net//NONSGML kigkonsult.se iCalcreator 2.22.1//
METHOD:REQUEST
X-WR-TIMEZONE:Europe/Athens
BEGIN:VEVENT
UID:https://thessaloniki.kinimatorama.net/event/147906
DTSTAMP:20230208T163000Z
DESCRIPTION:περισσότερες πληροφορίες: https://thessaloniki.kinimatorama.net
 /event/147906 
DTSTART:20230208T163000Z
DTEND:20230208T173000Z
GEO:+37.994079;+23.732083
LOCATION:Αθήνα\, \nΑΣΟΕΕ \nΠατησίων 76 (28ης Οκτωβρίου) \n(πλησίον σταθμού 
 ΗΣΑΠ Βικτώρια)
SUMMARY:Συνέχεια αν. συνέλευσης για διοργάνωση αντιφασιστικής συγκέντρωσης 
 στην Καλλιθέα
URL:https://thessaloniki.kinimatorama.net/event/147906
END:VEVENT
END:VCALENDAR
