BEGIN:VCALENDAR
VERSION:2.0
PRODID:-//demosphere.net//NONSGML kigkonsult.se iCalcreator 2.22.1//
METHOD:REQUEST
X-WR-TIMEZONE:Europe/Athens
BEGIN:VEVENT
UID:https://thessaloniki.kinimatorama.net/event/148049
DTSTAMP:20230217T215900Z
DESCRIPTION:περισσότερες πληροφορίες: https://thessaloniki.kinimatorama.net
 /event/148049 
DTSTART:20230217T215900Z
DTEND:20230217T225900Z
GEO:+40.633903;+22.95648
LOCATION:Θεσσαλονίκη\, \nΣχολή Θετικών Επιστημών (ΣΘΕ) ΑΠΘ
SUMMARY:Carnival Techno για την υποστήριξη των πληχθέντων του σεισμού σε Το
 υρκία & Συρία
URL:https://thessaloniki.kinimatorama.net/event/148049
END:VEVENT
END:VCALENDAR
