BEGIN:VCALENDAR
VERSION:2.0
PRODID:-//demosphere.net//NONSGML kigkonsult.se iCalcreator 2.22.1//
METHOD:REQUEST
X-WR-TIMEZONE:Europe/Athens
BEGIN:VEVENT
UID:https://thessaloniki.kinimatorama.net/event/148345
DTSTAMP:20230224T070000Z
DESCRIPTION:περισσότερες πληροφορίες: https://thessaloniki.kinimatorama.net
 /event/148345 
DTSTART:20230224T070000Z
DTEND:20230224T080000Z
GEO:+37.995376;+23.743086
LOCATION:Αθήνα\, \nΔικαστήρια Ευελπίδων
SUMMARY:Συγκέντρωση αλλη/ης στα συλληφθέντα από κατασταλτική επιχείρηση στα
  Προσφυγικά…
URL:https://thessaloniki.kinimatorama.net/event/148345
END:VEVENT
END:VCALENDAR
