BEGIN:VCALENDAR
VERSION:2.0
PRODID:-//demosphere.net//NONSGML kigkonsult.se iCalcreator 2.22.1//
METHOD:REQUEST
X-WR-TIMEZONE:Europe/Athens
BEGIN:VEVENT
UID:https://thessaloniki.kinimatorama.net/event/148602
DTSTAMP:20230205T120000Z
DESCRIPTION:περισσότερες πληροφορίες: https://thessaloniki.kinimatorama.net
 /event/148602 
DTSTART:20230205T120000Z
DTEND:20230205T130000Z
GEO:+40.633903;+22.95648
LOCATION:Θεσσαλονίκη\, \nΣχολή Θετικών Επιστημών (ΣΘΕ) ΑΠΘ
SUMMARY:Ανοιχτό κάλεσμα για δημιουργία κουηρφεμινιστικού μπλοκ στην πορεία 
 8ης Μάρτη
URL:https://thessaloniki.kinimatorama.net/event/148602
END:VEVENT
END:VCALENDAR
