BEGIN:VCALENDAR
VERSION:2.0
PRODID:-//demosphere.net//NONSGML kigkonsult.se iCalcreator 2.22.1//
METHOD:REQUEST
X-WR-TIMEZONE:Europe/Athens
BEGIN:VEVENT
UID:https://thessaloniki.kinimatorama.net/event/148727
DTSTAMP:20230323T170000Z
DESCRIPTION:περισσότερες πληροφορίες: https://thessaloniki.kinimatorama.net
 /event/148727 
DTSTART:20230323T170000Z
DTEND:20230323T180000Z
GEO:+37.970988;+23.714424
LOCATION:Αθήνα\, \nΚατάληψη ΠΙΚΠΑ \nΤιμοδήμου κ Αντωνιάδου \nΆνω Πετράλωνα 
 \n(στα Πέτρινα)
SUMMARY:Καφενείο οικ. ενίσχυσης του Ντουλαπιού\, δανειστική βιβλιοθήκη\, συ
 λλογή ειδών 1ης ανάγκης
URL:https://thessaloniki.kinimatorama.net/event/148727
END:VEVENT
END:VCALENDAR
