BEGIN:VCALENDAR
VERSION:2.0
PRODID:-//demosphere.net//NONSGML kigkonsult.se iCalcreator 2.22.1//
METHOD:REQUEST
X-WR-TIMEZONE:Europe/Athens
BEGIN:VEVENT
UID:https://thessaloniki.kinimatorama.net/event/148980
DTSTAMP:20230306T090000Z
DESCRIPTION:περισσότερες πληροφορίες: https://thessaloniki.kinimatorama.net
 /event/148980 
DTSTART:20230306T090000Z
DTEND:20230306T100000Z
GEO:+37.995376;+23.743086
LOCATION:Αθήνα\, \nΔικαστήρια Ευελπίδων
SUMMARY:Συγκέντρωση αλληλεγγύης για τα συλληφθέντα συντρόφια στη χθεσινή συ
 γκέντρωση
URL:https://thessaloniki.kinimatorama.net/event/148980
END:VEVENT
END:VCALENDAR
