BEGIN:VCALENDAR
VERSION:2.0
PRODID:-//demosphere.net//NONSGML kigkonsult.se iCalcreator 2.22.1//
METHOD:REQUEST
X-WR-TIMEZONE:Europe/Athens
BEGIN:VEVENT
UID:https://thessaloniki.kinimatorama.net/event/149057
DTSTAMP:20230308T113000Z
DESCRIPTION:περισσότερες πληροφορίες: https://thessaloniki.kinimatorama.net
 /event/149057 
DTSTART:20230308T113000Z
DTEND:20230308T123000Z
GEO:+37.995376;+23.743086
LOCATION:Αθήνα\, \nΔικαστήρια Ευελπίδων
SUMMARY:Συγκέντρωση Αλληλεγγύης για τα 5 συλληφθέντα της κυριακάτικης συγκέ
 ντρωσης
URL:https://thessaloniki.kinimatorama.net/event/149057
END:VEVENT
END:VCALENDAR
