BEGIN:VCALENDAR
VERSION:2.0
PRODID:-//demosphere.net//NONSGML kigkonsult.se iCalcreator 2.22.1//
METHOD:REQUEST
X-WR-TIMEZONE:Europe/Athens
BEGIN:VEVENT
UID:https://thessaloniki.kinimatorama.net/event/149283
DTSTAMP:20230315T163000Z
DESCRIPTION:περισσότερες πληροφορίες: https://thessaloniki.kinimatorama.net
 /event/149283 
DTSTART:20230315T163000Z
DTEND:20230315T173000Z
GEO:+37.994079;+23.732083
LOCATION:Αθήνα\, \nΑΣΟΕΕ \nΠατησίων 76 (28ης Οκτωβρίου) \n(πλησίον σταθμού 
 ΗΣΑΠ Βικτώρια)
SUMMARY:Απολ. συνέλευση για τη διοργάνωση του αναρχο-queer φεμινιστικού μπλ
 οκ στην πορεία 8/3
URL:https://thessaloniki.kinimatorama.net/event/149283
END:VEVENT
END:VCALENDAR
