BEGIN:VCALENDAR
VERSION:2.0
PRODID:-//demosphere.net//NONSGML kigkonsult.se iCalcreator 2.22.1//
METHOD:REQUEST
X-WR-TIMEZONE:Europe/Athens
BEGIN:VEVENT
UID:https://thessaloniki.kinimatorama.net/event/149610
DTSTAMP:20230324T170000Z
DESCRIPTION:περισσότερες πληροφορίες: https://thessaloniki.kinimatorama.net
 /event/149610 
DTSTART:20230324T170000Z
DTEND:20230324T180000Z
GEO:+37.987031;+23.739996
LOCATION:Αθήνα\, \nΑυτοδιαχειριζόμενο Στέκι Πέρασμα \n(πρώην Αυτόνομο Στέκι
 ) \nΖωοδόχου Πηγής 95-97 & Ισαύρων \nΕξάρχεια
SUMMARY:Εκδήλωση: Αυτή δεν είναι μία μπροσούρα για το προσφυγικό
URL:https://thessaloniki.kinimatorama.net/event/149610
END:VEVENT
END:VCALENDAR
