BEGIN:VCALENDAR
VERSION:2.0
PRODID:-//demosphere.net//NONSGML kigkonsult.se iCalcreator 2.22.1//
METHOD:REQUEST
X-WR-TIMEZONE:Europe/Athens
BEGIN:VEVENT
UID:https://thessaloniki.kinimatorama.net/event/14963
DTSTAMP:20111130T103000Z
DESCRIPTION:περισσότερες πληροφορίες: https://thessaloniki.kinimatorama.net
 /event/14963 
DTSTART:20111130T103000Z
DTEND:20111130T113000Z
GEO:+37.995376;+23.743086
LOCATION:Αθήνα\, \nΔικαστήρια Ευελπίδων
SUMMARY:Συγκέντρωση διαμαρτυρίας για το χαράτσι της ΔΕΗ
URL:https://thessaloniki.kinimatorama.net/event/14963
END:VEVENT
END:VCALENDAR
