BEGIN:VCALENDAR
VERSION:2.0
PRODID:-//demosphere.net//NONSGML kigkonsult.se iCalcreator 2.22.1//
METHOD:REQUEST
X-WR-TIMEZONE:Europe/Athens
BEGIN:VEVENT
UID:https://thessaloniki.kinimatorama.net/event/149696
DTSTAMP:20230314T150000Z
DESCRIPTION:περισσότερες πληροφορίες: https://thessaloniki.kinimatorama.net
 /event/149696 
DTSTART:20230314T150000Z
DTEND:20230314T160000Z
GEO:+40.633903;+22.95648
LOCATION:Θεσσαλονίκη\, \nΣχολή Θετικών Επιστημών (ΣΘΕ) ΑΠΘ
SUMMARY:Συνεχεια της α. συνελευσης για την κρατικη-καπιταλιστικη δολοφονια 
 στα Τέμπη
URL:https://thessaloniki.kinimatorama.net/event/149696
END:VEVENT
END:VCALENDAR
