BEGIN:VCALENDAR
VERSION:2.0
PRODID:-//demosphere.net//NONSGML kigkonsult.se iCalcreator 2.22.1//
METHOD:REQUEST
X-WR-TIMEZONE:Europe/Athens
BEGIN:VEVENT
UID:https://thessaloniki.kinimatorama.net/event/149854
DTSTAMP:20230316T013300Z
DESCRIPTION:περισσότερες πληροφορίες: https://thessaloniki.kinimatorama.net
 /event/149854 
DTSTART;VALUE=DATE:20230316
GEO:+40.633903;+22.95648
LOCATION:Θεσσαλονίκη\, \nΣχολή Θετικών Επιστημών (ΣΘΕ) ΑΠΘ
SUMMARY:Πρόγραμμα Κατάληψης ΣΦ Φυσικού
URL:https://thessaloniki.kinimatorama.net/event/149854
END:VEVENT
END:VCALENDAR
