BEGIN:VCALENDAR
VERSION:2.0
PRODID:-//demosphere.net//NONSGML kigkonsult.se iCalcreator 2.22.1//
METHOD:REQUEST
X-WR-TIMEZONE:Europe/Athens
BEGIN:VEVENT
UID:https://thessaloniki.kinimatorama.net/event/150124
DTSTAMP:20230329T160000Z
DESCRIPTION:περισσότερες πληροφορίες: https://thessaloniki.kinimatorama.net
 /event/150124 
DTSTART:20230329T160000Z
DTEND:20230329T170000Z
GEO:+38.00095;+23.737762
LOCATION:Αθήνα\, \nΔημοτική Αγορά Κυψέλης \nΦωκίωνος Νέγρη 42
SUMMARY:Μικροφωνική συγκέντρωση ενάντια στο κυνήγι
URL:https://thessaloniki.kinimatorama.net/event/150124
END:VEVENT
END:VCALENDAR
