BEGIN:VCALENDAR
VERSION:2.0
PRODID:-//demosphere.net//NONSGML kigkonsult.se iCalcreator 2.22.1//
METHOD:REQUEST
X-WR-TIMEZONE:Europe/Athens
BEGIN:VEVENT
UID:https://thessaloniki.kinimatorama.net/event/150346
DTSTAMP:20230328T182100Z
DESCRIPTION:περισσότερες πληροφορίες: https://thessaloniki.kinimatorama.net
 /event/150346 
DTSTART:20230328T182100Z
DTEND:20230328T192100Z
GEO:+40.633903;+22.95648
LOCATION:Θεσσαλονίκη\, \nΣχολή Θετικών Επιστημών (ΣΘΕ) ΑΠΘ
SUMMARY:C.U.M & CineDroga προβάλλουν: Corpse Bride
URL:https://thessaloniki.kinimatorama.net/event/150346
END:VEVENT
END:VCALENDAR
