BEGIN:VCALENDAR
VERSION:2.0
PRODID:-//demosphere.net//NONSGML kigkonsult.se iCalcreator 2.22.1//
METHOD:REQUEST
X-WR-TIMEZONE:Europe/Athens
BEGIN:VEVENT
UID:https://thessaloniki.kinimatorama.net/event/150371
DTSTAMP:20230328T060000Z
DESCRIPTION:περισσότερες πληροφορίες: https://thessaloniki.kinimatorama.net
 /event/150371 
DTSTART:20230328T060000Z
DTEND:20230328T070000Z
GEO:+37.995376;+23.743086
LOCATION:Αθήνα\, \nΔικαστήρια Ευελπίδων
SUMMARY:Κάλεσμα αλληλεγγύης στη δίκη των 3 συλληφθεισών συντροφισσών της απ
 εργιακής…
URL:https://thessaloniki.kinimatorama.net/event/150371
END:VEVENT
END:VCALENDAR
