BEGIN:VCALENDAR
VERSION:2.0
PRODID:-//demosphere.net//NONSGML kigkonsult.se iCalcreator 2.22.1//
METHOD:REQUEST
X-WR-TIMEZONE:Europe/Athens
BEGIN:VEVENT
UID:https://thessaloniki.kinimatorama.net/event/150571
DTSTAMP:20230402T160000Z
DESCRIPTION:περισσότερες πληροφορίες: https://thessaloniki.kinimatorama.net
 /event/150571 
DTSTART:20230402T160000Z
DTEND:20230402T170000Z
GEO:+35.341459;+25.132416
LOCATION:Ηράκλειο\, \nΚατάληψη Ευαγγελισμού \nΘεοτοκοπούλου 18
SUMMARY:2ο Πολιτικό Καφενείο: οι ενδοιμπεριαλιστικοί ανταγωνισμοί & ο πόλεμ
 ος στην Ουκρανία
URL:https://thessaloniki.kinimatorama.net/event/150571
END:VEVENT
END:VCALENDAR
