BEGIN:VCALENDAR
VERSION:2.0
PRODID:-//demosphere.net//NONSGML kigkonsult.se iCalcreator 2.22.1//
METHOD:REQUEST
X-WR-TIMEZONE:Europe/Athens
BEGIN:VEVENT
UID:https://thessaloniki.kinimatorama.net/event/151158
DTSTAMP:20230420T150000Z
DESCRIPTION:περισσότερες πληροφορίες: https://thessaloniki.kinimatorama.net
 /event/151158 
DTSTART:20230420T150000Z
DTEND:20230420T160000Z
GEO:+37.994854;+23.740732
LOCATION:Αθήνα\, \nΠλατεία Πρωτομαγιάς \nΠεδίον του Άρεως
SUMMARY:Ανοιχτή Συνέλευση για την πολιτική και οργανωτική παρουσία μας
URL:https://thessaloniki.kinimatorama.net/event/151158
END:VEVENT
END:VCALENDAR
