BEGIN:VCALENDAR
VERSION:2.0
PRODID:-//demosphere.net//NONSGML kigkonsult.se iCalcreator 2.22.1//
METHOD:REQUEST
X-WR-TIMEZONE:Europe/Athens
BEGIN:VEVENT
UID:https://thessaloniki.kinimatorama.net/event/151190
DTSTAMP:20230419T190000Z
DESCRIPTION:περισσότερες πληροφορίες: https://thessaloniki.kinimatorama.net
 /event/151190 
DTSTART:20230419T190000Z
DTEND:20230419T200000Z
GEO:+35.517819;+24.019203
LOCATION:Χανιά\, \nΚατάληψη Rosa Nera \nΛόφος Καστέλι\, Παλιό λιμάνι
SUMMARY:Κύκλος Προβολών Cine Κλειδί: αγωνιστικό αφιέρωμα στον Ousmane Sembe
 ne
URL:https://thessaloniki.kinimatorama.net/event/151190
END:VEVENT
END:VCALENDAR
