BEGIN:VCALENDAR
VERSION:2.0
PRODID:-//demosphere.net//NONSGML kigkonsult.se iCalcreator 2.22.1//
METHOD:REQUEST
X-WR-TIMEZONE:Europe/Athens
BEGIN:VEVENT
UID:https://thessaloniki.kinimatorama.net/event/151219
DTSTAMP:20230419T170000Z
DESCRIPTION:περισσότερες πληροφορίες: https://thessaloniki.kinimatorama.net
 /event/151219 
DTSTART:20230419T170000Z
DTEND:20230419T180000Z
GEO:+37.994854;+23.740732
LOCATION:Αθήνα\, \nΠλατεία Πρωτομαγιάς \nΠεδίον του Άρεως
SUMMARY:Συνέλευση αλληλεγγύης στους 4 διωκόμενους/η για την υπόθεση 'Σύντρο
 φοι/ισσες'
URL:https://thessaloniki.kinimatorama.net/event/151219
END:VEVENT
END:VCALENDAR
