BEGIN:VCALENDAR
VERSION:2.0
PRODID:-//demosphere.net//NONSGML kigkonsult.se iCalcreator 2.22.1//
METHOD:REQUEST
X-WR-TIMEZONE:Europe/Athens
BEGIN:VEVENT
UID:https://thessaloniki.kinimatorama.net/event/151716
DTSTAMP:20230503T182100Z
DESCRIPTION:περισσότερες πληροφορίες: https://thessaloniki.kinimatorama.net
 /event/151716 
DTSTART:20230503T182100Z
DTEND:20230503T192100Z
GEO:+40.633903;+22.95648
LOCATION:Θεσσαλονίκη\, \nΣχολή Θετικών Επιστημών (ΣΘΕ) ΑΠΘ
SUMMARY:Προβολή ταινίας 'The night of the hunter (1955)'
URL:https://thessaloniki.kinimatorama.net/event/151716
END:VEVENT
END:VCALENDAR
