BEGIN:VCALENDAR
VERSION:2.0
PRODID:-//demosphere.net//NONSGML kigkonsult.se iCalcreator 2.22.1//
METHOD:REQUEST
X-WR-TIMEZONE:Europe/Athens
BEGIN:VEVENT
UID:https://thessaloniki.kinimatorama.net/event/1518
DTSTAMP:20100203T070000Z
DESCRIPTION:περισσότερες πληροφορίες: https://thessaloniki.kinimatorama.net
 /event/1518 
DTSTART:20100203T070000Z
DTEND:20100203T080000Z
GEO:+40.639326;+22.932823
LOCATION:Θεσσαλονίκη\, \nΔικαστήρια Θεσσαλονίκης
SUMMARY:Αλληλεγγύη στον Πολύκαρπο Γεωργιάδη και στον Βαγγέλη Χρυσοχοϊδη
URL:https://thessaloniki.kinimatorama.net/event/1518
END:VEVENT
END:VCALENDAR
