BEGIN:VCALENDAR
VERSION:2.0
PRODID:-//demosphere.net//NONSGML kigkonsult.se iCalcreator 2.22.1//
METHOD:REQUEST
X-WR-TIMEZONE:Europe/Athens
BEGIN:VEVENT
UID:https://thessaloniki.kinimatorama.net/event/151976
DTSTAMP:20230508T060000Z
DESCRIPTION:περισσότερες πληροφορίες: https://thessaloniki.kinimatorama.net
 /event/151976 
DTSTART:20230508T060000Z
DTEND:20230508T070000Z
GEO:+37.995376;+23.743086
LOCATION:Αθήνα\, \nΔικαστήρια Ευελπίδων
SUMMARY:Συγκέντρωση αλληλεγγύης για την υπόθεση συναδέλφου από το Popolaros
URL:https://thessaloniki.kinimatorama.net/event/151976
END:VEVENT
END:VCALENDAR
