BEGIN:VCALENDAR
VERSION:2.0
PRODID:-//demosphere.net//NONSGML kigkonsult.se iCalcreator 2.22.1//
METHOD:REQUEST
X-WR-TIMEZONE:Europe/Athens
BEGIN:VEVENT
UID:https://thessaloniki.kinimatorama.net/event/152043
DTSTAMP:20230521T080000Z
DESCRIPTION:περισσότερες πληροφορίες: https://thessaloniki.kinimatorama.net
 /event/152043 
DTSTART:20230521T080000Z
DTEND:20230521T090000Z
GEO:+37.988037;+23.754651
LOCATION:Αθήνα\, \nΚατειλημμένα Προσφυγικά Λ. Αλεξάνδρας \nΑμπελόκηποι \n(3
 ' περπάτημα από Μετρό Αμπελόκηποι)
SUMMARY:Κάλεσμα ενίσχυσης της κουζίνας της Ομάδας Αλληλεγγύης Αστέγων
URL:https://thessaloniki.kinimatorama.net/event/152043
END:VEVENT
END:VCALENDAR
