BEGIN:VCALENDAR
VERSION:2.0
PRODID:-//demosphere.net//NONSGML kigkonsult.se iCalcreator 2.22.1//
METHOD:REQUEST
X-WR-TIMEZONE:Europe/Athens
BEGIN:VEVENT
UID:https://thessaloniki.kinimatorama.net/event/152671
DTSTAMP:20230529T150000Z
DESCRIPTION:περισσότερες πληροφορίες: https://thessaloniki.kinimatorama.net
 /event/152671 
DTSTART:20230529T150000Z
DTEND:20230529T160000Z
GEO:+40.633903;+22.95648
LOCATION:Θεσσαλονίκη\, \nΣχολή Θετικών Επιστημών (ΣΘΕ) ΑΠΘ
SUMMARY:Ανοιχτή αντιεκλογική συνέλευση συλλογικοτήτων & ατομικοτήτων
URL:https://thessaloniki.kinimatorama.net/event/152671
END:VEVENT
END:VCALENDAR
