BEGIN:VCALENDAR
VERSION:2.0
PRODID:-//demosphere.net//NONSGML kigkonsult.se iCalcreator 2.22.1//
METHOD:REQUEST
X-WR-TIMEZONE:Europe/Athens
BEGIN:VEVENT
UID:https://thessaloniki.kinimatorama.net/event/152767
DTSTAMP:20230528T140000Z
DESCRIPTION:περισσότερες πληροφορίες: https://thessaloniki.kinimatorama.net
 /event/152767 
DTSTART:20230528T140000Z
DTEND:20230528T150000Z
GEO:+37.994854;+23.740732
LOCATION:Αθήνα\, \nΠλατεία Πρωτομαγιάς \nΠεδίον του Άρεως
SUMMARY:Απολογιστική της Ανοιχτής Συνέλευσης Αλληλεγγύης με τον Alfredo Cos
 pito
URL:https://thessaloniki.kinimatorama.net/event/152767
END:VEVENT
END:VCALENDAR
