BEGIN:VCALENDAR
VERSION:2.0
PRODID:-//demosphere.net//NONSGML kigkonsult.se iCalcreator 2.22.1//
METHOD:REQUEST
X-WR-TIMEZONE:Europe/Athens
BEGIN:VEVENT
UID:https://thessaloniki.kinimatorama.net/event/152772
DTSTAMP:20230610T173000Z
DESCRIPTION:περισσότερες πληροφορίες: https://thessaloniki.kinimatorama.net
 /event/152772 
DTSTART:20230610T173000Z
DTEND:20230610T183000Z
GEO:+39.668568;+20.859894
LOCATION:Ιωάννινα\, \nΘεατράκι σκάλας
SUMMARY:13o ΝΤΑΛΑ ΗΛΙΟΣ φεστ
URL:https://thessaloniki.kinimatorama.net/event/152772
END:VEVENT
END:VCALENDAR
