BEGIN:VCALENDAR
VERSION:2.0
PRODID:-//demosphere.net//NONSGML kigkonsult.se iCalcreator 2.22.1//
METHOD:REQUEST
X-WR-TIMEZONE:Europe/Athens
BEGIN:VEVENT
UID:https://thessaloniki.kinimatorama.net/event/152986
DTSTAMP:20230610T183000Z
DESCRIPTION:περισσότερες πληροφορίες: https://thessaloniki.kinimatorama.net
 /event/152986 
DTSTART:20230610T183000Z
DTEND:20230610T193000Z
GEO:+40.633903;+22.95648
LOCATION:Θεσσαλονίκη\, \nΣχολή Θετικών Επιστημών (ΣΘΕ) ΑΠΘ
SUMMARY:Θεατρική Ομάδα Φυσικού: People\, Places and Things του Duncan Macmi
 llan
URL:https://thessaloniki.kinimatorama.net/event/152986
END:VEVENT
END:VCALENDAR
