BEGIN:VCALENDAR
VERSION:2.0
PRODID:-//demosphere.net//NONSGML kigkonsult.se iCalcreator 2.22.1//
METHOD:REQUEST
X-WR-TIMEZONE:Europe/Athens
BEGIN:VEVENT
UID:https://thessaloniki.kinimatorama.net/event/153082
DTSTAMP:20230615T160000Z
DESCRIPTION:περισσότερες πληροφορίες: https://thessaloniki.kinimatorama.net
 /event/153082 
DTSTART:20230615T160000Z
DTEND:20230615T170000Z
GEO:+37.970988;+23.714424
LOCATION:Αθήνα\, \nΚατάληψη ΠΙΚΠΑ \nΤιμοδήμου κ Αντωνιάδου \nΆνω Πετράλωνα 
 \n(στα Πέτρινα)
SUMMARY:Καφενείο οικονομικής ενίσχυσης Ντουλαπιού\, δανειστική βιβλιοθήκη\,
  συλλογή ειδών
URL:https://thessaloniki.kinimatorama.net/event/153082
END:VEVENT
END:VCALENDAR
