BEGIN:VCALENDAR
VERSION:2.0
PRODID:-//demosphere.net//NONSGML kigkonsult.se iCalcreator 2.22.1//
METHOD:REQUEST
X-WR-TIMEZONE:Europe/Athens
BEGIN:VEVENT
UID:https://thessaloniki.kinimatorama.net/event/153121
DTSTAMP:20230613T150000Z
DESCRIPTION:περισσότερες πληροφορίες: https://thessaloniki.kinimatorama.net
 /event/153121 
DTSTART:20230613T150000Z
DTEND:20230613T160000Z
GEO:+40.633903;+22.95648
LOCATION:Θεσσαλονίκη\, \nΣχολή Θετικών Επιστημών (ΣΘΕ) ΑΠΘ
SUMMARY:(ΑΚΥΡΩΝΕΤΑΙ)Ανοιχτή συνέλευση αλληλεγγύης στον απεργό πείνας Γ. Μιχ
 αηλίδη
URL:https://thessaloniki.kinimatorama.net/event/153121
END:VEVENT
END:VCALENDAR
