BEGIN:VCALENDAR
VERSION:2.0
PRODID:-//demosphere.net//NONSGML kigkonsult.se iCalcreator 2.22.1//
METHOD:REQUEST
X-WR-TIMEZONE:Europe/Athens
BEGIN:VEVENT
UID:https://thessaloniki.kinimatorama.net/event/15342
DTSTAMP:20111206T070000Z
DESCRIPTION:περισσότερες πληροφορίες: https://thessaloniki.kinimatorama.net
 /event/15342 
DTSTART:20111206T070000Z
DTEND:20111206T080000Z
GEO:+37.995376;+23.743086
LOCATION:Αθήνα\, \nΔικαστήρια Ευελπίδων
SUMMARY:Συγκέντρωση στα δικαστήρια:  Δεν πληρώνουμε το χαράτσι της ΔΕΗ
URL:https://thessaloniki.kinimatorama.net/event/15342
END:VEVENT
END:VCALENDAR
