BEGIN:VCALENDAR
VERSION:2.0
PRODID:-//demosphere.net//NONSGML kigkonsult.se iCalcreator 2.22.1//
METHOD:REQUEST
X-WR-TIMEZONE:Europe/Athens
BEGIN:VEVENT
UID:https://thessaloniki.kinimatorama.net/event/153938
DTSTAMP:20230706T153000Z
DESCRIPTION:περισσότερες πληροφορίες: https://thessaloniki.kinimatorama.net
 /event/153938 
DTSTART:20230706T153000Z
DTEND:20230706T163000Z
GEO:+37.994854;+23.740732
LOCATION:Αθήνα\, \nΠλατεία Πρωτομαγιάς \nΠεδίον του Άρεως
SUMMARY:Ανοιχτή συνέλευση για το κρατικό έγκλημα στην Πύλο
URL:https://thessaloniki.kinimatorama.net/event/153938
END:VEVENT
END:VCALENDAR
