BEGIN:VCALENDAR
VERSION:2.0
PRODID:-//demosphere.net//NONSGML kigkonsult.se iCalcreator 2.22.1//
METHOD:REQUEST
X-WR-TIMEZONE:Europe/Athens
BEGIN:VEVENT
UID:https://thessaloniki.kinimatorama.net/event/153977
DTSTAMP:20230713T160000Z
DESCRIPTION:περισσότερες πληροφορίες: https://thessaloniki.kinimatorama.net
 /event/153977 
DTSTART:20230713T160000Z
DTEND:20230713T170000Z
GEO:+37.970988;+23.714424
LOCATION:Αθήνα\, \nΚατάληψη ΠΙΚΠΑ \nΤιμοδήμου κ Αντωνιάδου \nΆνω Πετράλωνα 
 \n(στα Πέτρινα)
SUMMARY:Καφενείο οικον. ενίσχυσης Ντουλαπιού\, δανειστική βιβλιοθήκη\, συλλ
 ογή ειδών 1ης ανάγκης
URL:https://thessaloniki.kinimatorama.net/event/153977
END:VEVENT
END:VCALENDAR
