BEGIN:VCALENDAR
VERSION:2.0
PRODID:-//demosphere.net//NONSGML kigkonsult.se iCalcreator 2.22.1//
METHOD:REQUEST
X-WR-TIMEZONE:Europe/Athens
BEGIN:VEVENT
UID:https://thessaloniki.kinimatorama.net/event/154218
DTSTAMP:20230717T170000Z
DESCRIPTION:περισσότερες πληροφορίες: https://thessaloniki.kinimatorama.net
 /event/154218 
DTSTART:20230717T170000Z
DTEND:20230717T180000Z
GEO:+40.639936;+22.938682
LOCATION:Θεσσαλονίκη\, \nΓυμναστήριο Α.Σ. Απάλευτου \nΣελευκιδών 1
SUMMARY:Γνωριμία με το καινούργιο γυμναστήριο του Απάλευτου και μπύρες
URL:https://thessaloniki.kinimatorama.net/event/154218
END:VEVENT
END:VCALENDAR
