BEGIN:VCALENDAR
VERSION:2.0
PRODID:-//demosphere.net//NONSGML kigkonsult.se iCalcreator 2.22.1//
METHOD:REQUEST
X-WR-TIMEZONE:Europe/Athens
BEGIN:VEVENT
UID:https://thessaloniki.kinimatorama.net/event/154266
DTSTAMP:20230722T160000Z
DESCRIPTION:περισσότερες πληροφορίες: https://thessaloniki.kinimatorama.net
 /event/154266 
DTSTART:20230722T160000Z
DTEND:20230722T170000Z
GEO:+37.984156;+23.735238
LOCATION:Αθήνα\, \nΑυτοδιαχειριζόμενο Πάρκο Ναυαρίνου \nΝαυαρίνου & Ζωοδόχο
 υ Πηγής \nΕξάρχεια
SUMMARY:Εκδήλωση & Bar οικονομικής ενίσχυσης - Το κρατικό καπιταλιστικό έγκ
 λημα στα τέμπη
URL:https://thessaloniki.kinimatorama.net/event/154266
END:VEVENT
END:VCALENDAR
