BEGIN:VCALENDAR
VERSION:2.0
PRODID:-//demosphere.net//NONSGML kigkonsult.se iCalcreator 2.22.1//
METHOD:REQUEST
X-WR-TIMEZONE:Europe/Athens
BEGIN:VEVENT
UID:https://thessaloniki.kinimatorama.net/event/154279
DTSTAMP:20230720T080000Z
DESCRIPTION:περισσότερες πληροφορίες: https://thessaloniki.kinimatorama.net
 /event/154279 
DTSTART:20230720T080000Z
DTEND:20230720T090000Z
GEO:+37.995376;+23.743086
LOCATION:Αθήνα\, \nΔικαστήρια Ευελπίδων
SUMMARY:Κάλεσμα αλληλεγγύης σε συλληφθέντο από την πορεία στο πάρκο Δρακοπο
 ύλου
URL:https://thessaloniki.kinimatorama.net/event/154279
END:VEVENT
END:VCALENDAR
