BEGIN:VCALENDAR
VERSION:2.0
PRODID:-//demosphere.net//NONSGML kigkonsult.se iCalcreator 2.22.1//
METHOD:REQUEST
X-WR-TIMEZONE:Europe/Athens
BEGIN:VEVENT
UID:https://thessaloniki.kinimatorama.net/event/154636
DTSTAMP:20230823T180000Z
DESCRIPTION:περισσότερες πληροφορίες: https://thessaloniki.kinimatorama.net
 /event/154636 
DTSTART:20230823T180000Z
DTEND:20230823T190000Z
GEO:+40.639936;+22.938682
LOCATION:Θεσσαλονίκη\, \nΓυμναστήριο Α.Σ. Απάλευτου \nΣελευκιδών 1
SUMMARY:Προπόνηση Α.Σ. Απάλευτος: Πυγμαχία - Kick Boxing
URL:https://thessaloniki.kinimatorama.net/event/154636
END:VEVENT
END:VCALENDAR
