BEGIN:VCALENDAR
VERSION:2.0
PRODID:-//demosphere.net//NONSGML kigkonsult.se iCalcreator 2.22.1//
METHOD:REQUEST
X-WR-TIMEZONE:Europe/Athens
BEGIN:VEVENT
UID:https://thessaloniki.kinimatorama.net/event/154958
DTSTAMP:20230910T150000Z
DESCRIPTION:περισσότερες πληροφορίες: https://thessaloniki.kinimatorama.net
 /event/154958 
DTSTART:20230910T150000Z
DTEND:20230910T160000Z
GEO:+40.633903;+22.95648
LOCATION:Θεσσαλονίκη\, \nΣχολή Θετικών Επιστημών (ΣΘΕ) ΑΠΘ
SUMMARY:Ανοιχτή συνέλευση για την συγκρότηση αναρχικού μπλόκ στην πορεία γι
 α τον Φύσσα
URL:https://thessaloniki.kinimatorama.net/event/154958
END:VEVENT
END:VCALENDAR
