BEGIN:VCALENDAR
VERSION:2.0
PRODID:-//demosphere.net//NONSGML kigkonsult.se iCalcreator 2.22.1//
METHOD:REQUEST
X-WR-TIMEZONE:Europe/Athens
BEGIN:VEVENT
UID:https://thessaloniki.kinimatorama.net/event/155196
DTSTAMP:20230915T150000Z
DESCRIPTION:περισσότερες πληροφορίες: https://thessaloniki.kinimatorama.net
 /event/155196 
DTSTART:20230915T150000Z
DTEND:20230915T160000Z
GEO:+40.633903;+22.95648
LOCATION:Θεσσαλονίκη\, \nΣχολή Θετικών Επιστημών (ΣΘΕ) ΑΠΘ
SUMMARY:Ανοιχτή συνέλευση για δημιουργία μπλοκ στη πορεία για τη δολοφονία 
 του Ζακ/Ζάκι
URL:https://thessaloniki.kinimatorama.net/event/155196
END:VEVENT
END:VCALENDAR
