BEGIN:VCALENDAR
VERSION:2.0
PRODID:-//demosphere.net//NONSGML kigkonsult.se iCalcreator 2.22.1//
METHOD:REQUEST
X-WR-TIMEZONE:Europe/Athens
BEGIN:VEVENT
UID:https://thessaloniki.kinimatorama.net/event/155377
DTSTAMP:20230919T160000Z
DESCRIPTION:περισσότερες πληροφορίες: https://thessaloniki.kinimatorama.net
 /event/155377 
DTSTART:20230919T160000Z
DTEND:20230919T170000Z
GEO:+40.633903;+22.95648
LOCATION:Θεσσαλονίκη\, \nΣχολή Θετικών Επιστημών (ΣΘΕ) ΑΠΘ
SUMMARY:Συνέχεια ανοιχτής συνέλευσης για μπλοκ στη πορεία για τη δολοφονία 
 της Ζάκι
URL:https://thessaloniki.kinimatorama.net/event/155377
END:VEVENT
END:VCALENDAR
